BEGIN:VCALENDAR
VERSION:2.0
PRODID:-//Verein für NADA-Akupunktur Österreich - ECPv6.15.20//NONSGML v1.0//EN
CALSCALE:GREGORIAN
METHOD:PUBLISH
X-WR-CALNAME:Verein für NADA-Akupunktur Österreich
X-ORIGINAL-URL:https://nada-akupunktur.at
X-WR-CALDESC:Veranstaltungen für Verein für NADA-Akupunktur Österreich
REFRESH-INTERVAL;VALUE=DURATION:PT1H
X-Robots-Tag:noindex
X-PUBLISHED-TTL:PT1H
BEGIN:VTIMEZONE
TZID:Europe/Vienna
BEGIN:DAYLIGHT
TZOFFSETFROM:+0100
TZOFFSETTO:+0200
TZNAME:CEST
DTSTART:20250330T010000
END:DAYLIGHT
BEGIN:STANDARD
TZOFFSETFROM:+0200
TZOFFSETTO:+0100
TZNAME:CET
DTSTART:20251026T010000
END:STANDARD
BEGIN:DAYLIGHT
TZOFFSETFROM:+0100
TZOFFSETTO:+0200
TZNAME:CEST
DTSTART:20260329T010000
END:DAYLIGHT
BEGIN:STANDARD
TZOFFSETFROM:+0200
TZOFFSETTO:+0100
TZNAME:CET
DTSTART:20261025T010000
END:STANDARD
BEGIN:DAYLIGHT
TZOFFSETFROM:+0100
TZOFFSETTO:+0200
TZNAME:CEST
DTSTART:20270328T010000
END:DAYLIGHT
BEGIN:STANDARD
TZOFFSETFROM:+0200
TZOFFSETTO:+0100
TZNAME:CET
DTSTART:20271031T010000
END:STANDARD
END:VTIMEZONE
BEGIN:VEVENT
DTSTART;TZID=Europe/Vienna:20260424T090000
DTEND;TZID=Europe/Vienna:20260424T170000
DTSTAMP:20260419T150908
CREATED:20251117T112531Z
LAST-MODIFIED:20260328T075142Z
UID:10000023-1777021200-1777050000@nada-akupunktur.at
SUMMARY:NADA BASIC II | Wien
DESCRIPTION:1 Tag\, 8 UE Kursinhalte \nInformationen zu dem Kursablauf und den Inhalten finden Sie im Curriculum (Link). \nDer Kursbeitrag muss binnen 7 Tagen nach Kursbuchung auf unser Konto mit Name und Rechnungsnummer im Verwendungszweck eingezahlt werden. Erst dann ist der Seminarplatz reserviert.\nDer Kurs kann vom Veranstalter bis 14 Tage vor Beginn storniert werden\, sollten nicht genügend Anmeldungen/Einzahlungen eingegangen sein.\nBis zwei Woche vor Kursbeginn kann von Teilnehmer*Innenseite kostenfrei storniert werden\, ab diesem Zeitpunkt wird eine Stornogebühr von 50% verrechnet.
URL:https://nada-akupunktur.at/kurs/2026-08/
LOCATION:Atomos Klinik Währing\, Kreuzg. 17/19\, Wien\, 1180\, Austria
CATEGORIES:Ausbildung,BASIC II
ATTACH;FMTTYPE=image/png:https://nada-akupunktur.at/wp-content/uploads/2025/08/Logo-Basic-2-4.png
ORGANIZER;CN="Verein f%C3%BCr NADA-Akupunktur %C3%96sterreich":MAILTO:kontakt@nada-akupunktur.at
END:VEVENT
BEGIN:VEVENT
DTSTART;TZID=Europe/Vienna:20260508T090000
DTEND;TZID=Europe/Vienna:20260508T170000
DTSTAMP:20260419T150908
CREATED:20260222T203315Z
LAST-MODIFIED:20260305T094201Z
UID:10000034-1778230800-1778259600@nada-akupunktur.at
SUMMARY:NADA BASIC II | LKH Feldbach Inhouse
DESCRIPTION:Der Inhalt ist geschützt.
URL:https://nada-akupunktur.at/kurs/feldbach-ih06-26/
LOCATION:LKH Feldbach\, Grillparzer Str. 9\, Seminarraum 1\, Feldbach\, 8330
CATEGORIES:IH-BASIC II,Inhouse
ORGANIZER;CN="Verein f%C3%BCr NADA-Akupunktur %C3%96sterreich":MAILTO:kontakt@nada-akupunktur.at
END:VEVENT
BEGIN:VEVENT
DTSTART;TZID=Europe/Vienna:20260530T090000
DTEND;TZID=Europe/Vienna:20260530T170000
DTSTAMP:20260419T150908
CREATED:20251117T112103Z
LAST-MODIFIED:20260305T212709Z
UID:10000021-1780131600-1780160400@nada-akupunktur.at
SUMMARY:NADA BASIC II | Graz
DESCRIPTION:1 Tag\, 8 UE Kursinhalte\n\nInformationen zu dem Kursablauf und den Inhalten finden Sie im Curriculum (Link). \n\n\nDer Kursbeitrag muss binnen 7 Tagen nach Kursbuchung auf unser Konto mit Name und Rechnungsnummer im Verwendungszweck eingezahlt werden. Erst dann ist der Seminarplatz reserviert.\nDer Kurs kann vom Veranstalter bis 14 Tage vor Beginn storniert werden\, sollten nicht genügend Anmeldungen/Einzahlungen eingegangen sein.\nBis zwei Woche vor Kursbeginn kann von Teilnehmer*Innenseite kostenfrei storniert werden\, ab diesem Zeitpunkt wird eine Stornogebühr von 50% verrechnet.
URL:https://nada-akupunktur.at/kurs/2026_6/
LOCATION:Hotel Ibis Style Graz Messe\, Waltendorfer Gürtel 8\, Graz\, 8010\, Austria
CATEGORIES:Ausbildung,BASIC II
ATTACH;FMTTYPE=image/png:https://nada-akupunktur.at/wp-content/uploads/2025/08/Logo-Basic-2-4.png
ORGANIZER;CN="Verein f%C3%BCr NADA-Akupunktur %C3%96sterreich":MAILTO:kontakt@nada-akupunktur.at
END:VEVENT
BEGIN:VEVENT
DTSTART;TZID=Europe/Vienna:20260615T090000
DTEND;TZID=Europe/Vienna:20260615T170000
DTSTAMP:20260419T150908
CREATED:20251117T115332Z
LAST-MODIFIED:20260305T212653Z
UID:10000025-1781514000-1781542800@nada-akupunktur.at
SUMMARY:NADA BASIC II | Götzis
DESCRIPTION:1 Tag\, 8 UE Kursinhalte \nInformationen zu dem Kursablauf und den Inhalten finden Sie im Curriculum (Link). \nDer Kursbeitrag muss binnen 7 Tagen nach Kursbuchung auf unser Konto mit Name und Rechnungsnummer im Verwendungszweck eingezahlt werden. Erst dann ist der Seminarplatz reserviert.\nDer Kurs kann vom Veranstalter bis 14 Tage vor Beginn storniert werden\, sollten nicht genügend Anmeldungen/Einzahlungen eingegangen sein.\nBis zwei Woche vor Kursbeginn kann von Teilnehmer*Innenseite kostenfrei storniert werden\, ab diesem Zeitpunkt wird eine Stornogebühr von 50% verrechnet.
URL:https://nada-akupunktur.at/kurs/2026-14/
LOCATION:Kolpinghaus Götzis\, Hans-Berchtoldstraße 21\, Götzis\, 6840\, Austria
CATEGORIES:Ausbildung,BASIC II
ATTACH;FMTTYPE=image/png:https://nada-akupunktur.at/wp-content/uploads/2025/08/Logo-Basic-2-4.png
ORGANIZER;CN="Verein f%C3%BCr NADA-Akupunktur %C3%96sterreich":MAILTO:kontakt@nada-akupunktur.at
END:VEVENT
BEGIN:VEVENT
DTSTART;TZID=Europe/Vienna:20260620T090000
DTEND;TZID=Europe/Vienna:20260620T170000
DTSTAMP:20260419T150908
CREATED:20260205T154153Z
LAST-MODIFIED:20260331T163711Z
UID:10000032-1781946000-1781974800@nada-akupunktur.at
SUMMARY:NADA BASIC II | Graz
DESCRIPTION:1 Tag\, 8 UE Kursinhalte \nInformationen zu dem Kursablauf und den Inhalten finden Sie im Curriculum (Link). \nDer Kursbeitrag muss binnen 7 Tagen nach Kursbuchung auf unser Konto mit Name und Rechnungsnummer im Verwendungszweck eingezahlt werden. Erst dann ist der Seminarplatz reserviert.\nDer Kurs kann vom Veranstalter bis 14 Tage vor Beginn storniert werden\, sollten nicht genügend Anmeldungen/Einzahlungen eingegangen sein.\nBis zwei Woche vor Kursbeginn kann von Teilnehmer*Innenseite kostenfrei storniert werden\, ab diesem Zeitpunkt wird eine Stornogebühr von 50% verrechnet.
URL:https://nada-akupunktur.at/kurs/2026-18/
LOCATION:Hotel Ibis Style Graz Messe\, Waltendorfer Gürtel 8\, Graz\, 8010\, Austria
CATEGORIES:Ausbildung,BASIC II
ATTACH;FMTTYPE=image/png:https://nada-akupunktur.at/wp-content/uploads/2025/08/Logo-Basic-2-4.png
ORGANIZER;CN="Verein f%C3%BCr NADA-Akupunktur %C3%96sterreich":MAILTO:kontakt@nada-akupunktur.at
END:VEVENT
BEGIN:VEVENT
DTSTART;TZID=Europe/Vienna:20260925T090000
DTEND;TZID=Europe/Vienna:20260925T170000
DTSTAMP:20260419T150908
CREATED:20260401T172054Z
LAST-MODIFIED:20260415T070657Z
UID:10000037-1790326800-1790355600@nada-akupunktur.at
SUMMARY:20 Jahre NADA Österreich
DESCRIPTION:Kongress zum 20jährigen Jubiläum NADA-Akupunktur Austria\nWir laden herzlich zu einem besonderen Kongress anlässlich des 20-jährigen Bestehens der  NADA-Akupunktur Austria ein.\nFreuen Sie sich auf spannende Vorträge zu Trauma\, Sucht und psychischer Gesundheit\, auf Einblicke in gelebte NADA-Praxis\, auf Erfahrungsaustausch und Vernetzung sowie auf ein Wiedersehen und Kennenlernen von NADA-Therapeut:innen aus ganz Österreich und darüber hinaus.
URL:https://nada-akupunktur.at/kurs/20-jahre-nada-oesterreich/
LOCATION:Privat: Alte Universität\, Hofgasse 14\,\, Graz\, 8010\, Austria
CATEGORIES:Kongress
ATTACH;FMTTYPE=image/png:https://nada-akupunktur.at/wp-content/uploads/2023/12/NADA-Akupunktur_favicon.png
ORGANIZER;CN="Verein f%C3%BCr NADA-Akupunktur %C3%96sterreich":MAILTO:kontakt@nada-akupunktur.at
END:VEVENT
BEGIN:VEVENT
DTSTART;TZID=Europe/Vienna:20261002T090000
DTEND;TZID=Europe/Vienna:20261003T170000
DTSTAMP:20260419T150908
CREATED:20260304T080313Z
LAST-MODIFIED:20260305T212804Z
UID:10000035-1790931600-1791046800@nada-akupunktur.at
SUMMARY:NADA BASIC I | Graz
DESCRIPTION:2 Tage\, 16 UE Kursinhalte \nInformationen zu dem Kursablauf und den Inhalten finden Sie im Curriculum (Link). \nDer Kursbeitrag muss binnen 7 Tagen nach Kursbuchung auf unser Konto mit Name und Rechnungsnummer im Verwendungszweck eingezahlt werden. Erst dann ist der Seminarplatz reserviert. \nDer Kurs kann vom Veranstalter bis 14 Tage vor Beginn storniert werden\, sollten nicht genügend Anmeldungen/Einzahlungen eingegangen sein.\nBis zwei Woche vor Kursbeginn kann von Teilnehmer*Innenseite kostenfrei storniert werden\, ab diesem Zeitpunkt wird eine Stornogebühr von 50% verrechnet. \nVorrausetzung für den Abschluss der Ausbildung ist die Absolvierung der Kurse Basic 1 und Basic 2 sowie die Durchführung der Hospitationen. Bitte denken Sie rechtzeitig an die Buchung von Basic 2\, damit Sie die Ausbildung abschließen können. 
URL:https://nada-akupunktur.at/kurs/2026-11/
LOCATION:Hotel Ibis Style Graz Messe\, Waltendorfer Gürtel 8\, Graz\, 8010\, Austria
CATEGORIES:Ausbildung,BASIC I
ATTACH;FMTTYPE=image/png:https://nada-akupunktur.at/wp-content/uploads/2025/08/Logo-Basic-1-4.png
END:VEVENT
BEGIN:VEVENT
DTSTART;TZID=Europe/Vienna:20261009T100000
DTEND;TZID=Europe/Vienna:20261010T170000
DTSTAMP:20260419T150908
CREATED:20260113T200046Z
LAST-MODIFIED:20260305T112805Z
UID:10000028-1791540000-1791651600@nada-akupunktur.at
SUMMARY:NADA BASIC I | Wien
DESCRIPTION:2 Tage\, 16 UE Kursinhalte \nTag 1: 10-18 Uhr und Tag 2: 09-17 Uhr \nInformationen zu dem Kursablauf und den Inhalten finden Sie im Curriculum (Link). \nDer Kursbeitrag muss binnen 7 Tagen nach Kursbuchung auf unser Konto mit Name und Rechnungsnummer im Verwendungszweck eingezahlt werden. Erst dann ist der Seminarplatz reserviert. \nDer Kurs kann vom Veranstalter bis 14 Tage vor Beginn storniert werden\, sollten nicht genügend Anmeldungen/Einzahlungen eingegangen sein.\nBis zwei Woche vor Kursbeginn kann von Teilnehmer*Innenseite kostenfrei storniert werden\, ab diesem Zeitpunkt wird eine Stornogebühr von 50% verrechnet.
URL:https://nada-akupunktur.at/kurs/nada-basic-i-wien-2/
LOCATION:Atomos Klinik Währing\, Kreuzg. 17/19\, Wien\, 1180\, Austria
CATEGORIES:Ausbildung,BASIC I
ATTACH;FMTTYPE=image/png:https://nada-akupunktur.at/wp-content/uploads/2025/08/Logo-Basic-1-4.png
ORGANIZER;CN="Verein f%C3%BCr NADA-Akupunktur %C3%96sterreich":MAILTO:kontakt@nada-akupunktur.at
END:VEVENT
BEGIN:VEVENT
DTSTART;TZID=Europe/Vienna:20261121T090000
DTEND;TZID=Europe/Vienna:20261121T170000
DTSTAMP:20260419T150908
CREATED:20260304T080444Z
LAST-MODIFIED:20260305T212536Z
UID:10000036-1795251600-1795280400@nada-akupunktur.at
SUMMARY:NADA BASIC II | Graz
DESCRIPTION:Informationen zu dem Kursablauf und den Inhalten finden Sie im Curriculum (Link). \nDer Kursbeitrag muss binnen 7 Tagen nach Kursbuchung auf unser Konto mit Name und Rechnungsnummer im Verwendungszweck eingezahlt werden. Erst dann ist der Seminarplatz reserviert.\nDer Kurs kann vom Veranstalter bis 14 Tage vor Beginn storniert werden\, sollten nicht genügend Anmeldungen/Einzahlungen eingegangen sein.\nBis zwei Wochen vor Kursbeginn kann von Teilnehmer*Innenseite kostenfrei storniert werden\, ab diesem Zeitpunkt wird eine Stornogebühr von 50% verrechnet.
URL:https://nada-akupunktur.at/kurs/2026-12/
LOCATION:Hotel Ibis Style Graz Messe\, Waltendorfer Gürtel 8\, Graz\, 8010\, Austria
CATEGORIES:Ausbildung,BASIC II
ATTACH;FMTTYPE=image/png:https://nada-akupunktur.at/wp-content/uploads/2025/08/Logo-Basic-2-4.png
ORGANIZER;CN="Verein f%C3%BCr NADA-Akupunktur %C3%96sterreich":MAILTO:kontakt@nada-akupunktur.at
END:VEVENT
BEGIN:VEVENT
DTSTART;TZID=Europe/Vienna:20261204T090000
DTEND;TZID=Europe/Vienna:20261204T170000
DTSTAMP:20260419T150908
CREATED:20260113T200740Z
LAST-MODIFIED:20260305T211637Z
UID:10000029-1796374800-1796403600@nada-akupunktur.at
SUMMARY:NADA BASIC II | Wien
DESCRIPTION:1 Tag\, 8 UE Kursinhalte \nInformationen zu dem Kursablauf und den Inhalten finden Sie im Curriculum (Link). \nDer Kursbeitrag muss binnen 7 Tagen nach Kursbuchung auf unser Konto mit Name und Rechnungsnummer im Verwendungszweck eingezahlt werden. Erst dann ist der Seminarplatz reserviert.\nDer Kurs kann vom Veranstalter bis 14 Tage vor Beginn storniert werden\, sollten nicht genügend Anmeldungen/Einzahlungen eingegangen sein.\nBis zwei Woche vor Kursbeginn kann von Teilnehmer*Innenseite kostenfrei storniert werden\, ab diesem Zeitpunkt wird eine Stornogebühr von 50% verrechnet.
URL:https://nada-akupunktur.at/kurs/nada-basic-ii-wien-2/
LOCATION:Atomos Klinik Währing\, Kreuzg. 17/19\, Wien\, 1180\, Austria
CATEGORIES:Ausbildung,BASIC II
ATTACH;FMTTYPE=image/png:https://nada-akupunktur.at/wp-content/uploads/2025/08/Logo-Basic-2-4.png
ORGANIZER;CN="Verein f%C3%BCr NADA-Akupunktur %C3%96sterreich":MAILTO:kontakt@nada-akupunktur.at
END:VEVENT
END:VCALENDAR